BEGIN:VCALENDAR
VERSION:2.0
PRODID:-//Knine Rescue  - ECPv6.6.4.2//NONSGML v1.0//EN
CALSCALE:GREGORIAN
METHOD:PUBLISH
X-WR-CALNAME:Knine Rescue 
X-ORIGINAL-URL:https://kninerescue.com
X-WR-CALDESC:Events for Knine Rescue 
REFRESH-INTERVAL;VALUE=DURATION:PT1H
X-Robots-Tag:noindex
X-PUBLISHED-TTL:PT1H
BEGIN:VTIMEZONE
TZID:America/New_York
BEGIN:DAYLIGHT
TZOFFSETFROM:-0500
TZOFFSETTO:-0400
TZNAME:EDT
DTSTART:20260308T070000
END:DAYLIGHT
BEGIN:STANDARD
TZOFFSETFROM:-0400
TZOFFSETTO:-0500
TZNAME:EST
DTSTART:20261101T060000
END:STANDARD
END:VTIMEZONE
BEGIN:VEVENT
DTSTART;TZID=America/New_York:20260606T080000
DTEND;TZID=America/New_York:20260606T170000
DTSTAMP:20260421T111828
CREATED:20260408T021720Z
LAST-MODIFIED:20260408T021720Z
UID:2177-1780732800-1780765200@kninerescue.com
SUMMARY:Ellicott City Pride Event
DESCRIPTION:Details on this event are TBD-  Check back soon!
URL:https://kninerescue.com/event/ellicott-city-pride-event/
LOCATION:MD
END:VEVENT
END:VCALENDAR