BEGIN:VCALENDAR
VERSION:2.0
PRODID:-//Knine Rescue  - ECPv6.6.4.2//NONSGML v1.0//EN
CALSCALE:GREGORIAN
METHOD:PUBLISH
X-WR-CALNAME:Knine Rescue 
X-ORIGINAL-URL:https://kninerescue.com
X-WR-CALDESC:Events for Knine Rescue 
REFRESH-INTERVAL;VALUE=DURATION:PT1H
X-Robots-Tag:noindex
X-PUBLISHED-TTL:PT1H
BEGIN:VTIMEZONE
TZID:America/New_York
BEGIN:DAYLIGHT
TZOFFSETFROM:-0500
TZOFFSETTO:-0400
TZNAME:EDT
DTSTART:20260308T070000
END:DAYLIGHT
BEGIN:STANDARD
TZOFFSETFROM:-0400
TZOFFSETTO:-0500
TZNAME:EST
DTSTART:20261101T060000
END:STANDARD
END:VTIMEZONE
BEGIN:VEVENT
DTSTART;TZID=America/New_York:20260509T120000
DTEND;TZID=America/New_York:20260509T150000
DTSTAMP:20260421T113136
CREATED:20260205T132858Z
LAST-MODIFIED:20260205T132858Z
UID:2096-1778328000-1778338800@kninerescue.com
SUMMARY:Knine Rescue Adoption Event - By our Teen Council!
DESCRIPTION:Join us at on May 9th from 12-3 pm for an adoption event! Location TBD\nGet pre-approved at www.kninerescue.com/adoption  \nFollow along on Instagram for updates about who will be coming to the event! @kninerescueinc
URL:https://kninerescue.com/event/knine-rescue-adoption-event-by-our-teen-council/
LOCATION:MD
END:VEVENT
END:VCALENDAR