BEGIN:VCALENDAR
VERSION:2.0
PRODID:-//Knine Rescue  - ECPv6.6.4.2//NONSGML v1.0//EN
CALSCALE:GREGORIAN
METHOD:PUBLISH
X-WR-CALNAME:Knine Rescue 
X-ORIGINAL-URL:https://kninerescue.com
X-WR-CALDESC:Events for Knine Rescue 
REFRESH-INTERVAL;VALUE=DURATION:PT1H
X-Robots-Tag:noindex
X-PUBLISHED-TTL:PT1H
BEGIN:VTIMEZONE
TZID:America/New_York
BEGIN:DAYLIGHT
TZOFFSETFROM:-0500
TZOFFSETTO:-0400
TZNAME:EDT
DTSTART:20260308T070000
END:DAYLIGHT
BEGIN:STANDARD
TZOFFSETFROM:-0400
TZOFFSETTO:-0500
TZNAME:EST
DTSTART:20261101T060000
END:STANDARD
END:VTIMEZONE
BEGIN:VEVENT
DTSTART;TZID=America/New_York:20260419T120000
DTEND;TZID=America/New_York:20260419T150000
DTSTAMP:20260419T083313
CREATED:20260212T233418Z
LAST-MODIFIED:20260212T233515Z
UID:2110-1776600000-1776610800@kninerescue.com
SUMMARY:Milkhouse Brewery at Stillpoint Farm Adoption Event
DESCRIPTION:Join us at Milkhouse Brewery at Stillpoint Farm on April 19th from 12-3 pm for an adoption event! \nGet pre-approved at www.kninerescue.com/adoption \nFollow along on Instagram for updates about who will be coming to the event! @kninerescueinc
URL:https://kninerescue.com/event/milkhouse-brewery-at-stillpoint-farm-adoption-event/
LOCATION:Milkhouse Brewery\, 8253 Dollyhyde Rd\, Mt Airy\, Maryland\, 21771
END:VEVENT
END:VCALENDAR