BEGIN:VCALENDAR
VERSION:2.0
PRODID:-//Knine Rescue  - ECPv6.6.4.2//NONSGML v1.0//EN
CALSCALE:GREGORIAN
METHOD:PUBLISH
X-ORIGINAL-URL:https://kninerescue.com
X-WR-CALDESC:Events for Knine Rescue 
REFRESH-INTERVAL;VALUE=DURATION:PT1H
X-Robots-Tag:noindex
X-PUBLISHED-TTL:PT1H
BEGIN:VTIMEZONE
TZID:America/New_York
BEGIN:DAYLIGHT
TZOFFSETFROM:-0500
TZOFFSETTO:-0400
TZNAME:EDT
DTSTART:20260308T070000
END:DAYLIGHT
BEGIN:STANDARD
TZOFFSETFROM:-0400
TZOFFSETTO:-0500
TZNAME:EST
DTSTART:20261101T060000
END:STANDARD
END:VTIMEZONE
BEGIN:VEVENT
DTSTART;TZID=America/New_York:20260201T120000
DTEND;TZID=America/New_York:20260201T150000
DTSTAMP:20260419T090951
CREATED:20260119T174538Z
LAST-MODIFIED:20260123T010216Z
UID:2075-1769947200-1769958000@kninerescue.com
SUMMARY:Sandbox Brewhouse Adoption Event!
DESCRIPTION:Join us Saturday January 25th from 12-3 pm at Sandbox Brewhouse for an adoption event! \nGet pre-approved at www.kninerescue.com/adoption  \nFollow along on Instagram for updates about who will be coming to the event! @kninerescueinc 
URL:https://kninerescue.com/event/sandbox-brewhouse-adoption-event/
LOCATION:Sandbox Brewhouse\, 880 N East St #201\, Frederick\, Maryland\, 21701
END:VEVENT
END:VCALENDAR