BEGIN:VCALENDAR
VERSION:2.0
PRODID:-//Knine Rescue  - ECPv6.6.4.2//NONSGML v1.0//EN
CALSCALE:GREGORIAN
METHOD:PUBLISH
X-WR-CALNAME:Knine Rescue 
X-ORIGINAL-URL:https://kninerescue.com
X-WR-CALDESC:Events for Knine Rescue 
REFRESH-INTERVAL;VALUE=DURATION:PT1H
X-Robots-Tag:noindex
X-PUBLISHED-TTL:PT1H
BEGIN:VTIMEZONE
TZID:America/New_York
BEGIN:DAYLIGHT
TZOFFSETFROM:-0500
TZOFFSETTO:-0400
TZNAME:EDT
DTSTART:20250309T070000
END:DAYLIGHT
BEGIN:STANDARD
TZOFFSETFROM:-0400
TZOFFSETTO:-0500
TZNAME:EST
DTSTART:20251102T060000
END:STANDARD
END:VTIMEZONE
BEGIN:VEVENT
DTSTART;TZID=America/New_York:20250906T120000
DTEND;TZID=America/New_York:20250906T150000
DTSTAMP:20260419T115151
CREATED:20250522T021925Z
LAST-MODIFIED:20250821T134245Z
UID:1869-1757160000-1757170800@kninerescue.com
SUMMARY:Adoption Event @ Ideal Hyundai in Frederick
DESCRIPTION:Join us for an adoption event at Ideal Hyundai of Frederick on September 6th from 12-3 pm! \nGet pre-approved at www.kninerescue.com/adoption  \nFollow along on Instagram for updates about who will be coming to the event! https://www.instagram.com/kninerescueinc/ \n 
URL:https://kninerescue.com/event/adoption-event-ideal-hyundai-in-frederick/
LOCATION:Ideal Hyundai of Frederick\, 5871 Urbana Pike Suite: Hyundai\, Frederick\, MD\, 21704\, United States
END:VEVENT
END:VCALENDAR