BEGIN:VCALENDAR
VERSION:2.0
PRODID:-//Knine Rescue  - ECPv6.6.4.2//NONSGML v1.0//EN
CALSCALE:GREGORIAN
METHOD:PUBLISH
X-WR-CALNAME:Knine Rescue 
X-ORIGINAL-URL:https://kninerescue.com
X-WR-CALDESC:Events for Knine Rescue 
REFRESH-INTERVAL;VALUE=DURATION:PT1H
X-Robots-Tag:noindex
X-PUBLISHED-TTL:PT1H
BEGIN:VTIMEZONE
TZID:America/New_York
BEGIN:DAYLIGHT
TZOFFSETFROM:-0500
TZOFFSETTO:-0400
TZNAME:EDT
DTSTART:20250309T070000
END:DAYLIGHT
BEGIN:STANDARD
TZOFFSETFROM:-0400
TZOFFSETTO:-0500
TZNAME:EST
DTSTART:20251102T060000
END:STANDARD
END:VTIMEZONE
BEGIN:VEVENT
DTSTART;TZID=America/New_York:20250413T120000
DTEND;TZID=America/New_York:20250413T150000
DTSTAMP:20260424T062437
CREATED:20250329T200702Z
LAST-MODIFIED:20250410T143212Z
UID:1814-1744545600-1744556400@kninerescue.com
SUMMARY:Knine Rescue Adoption Event at Stone Silo Brewery in Damascus!
DESCRIPTION:Come meet some adorable\, adoptable pups and support Knine Rescue at Stone Silo Brewery in Damascus! On-site adoptions for pre-approved applicants. Please submit your adoption application here: https://www.shelterluv.com/matchme/adopt/KNRI/Dog.
URL:https://kninerescue.com/event/knine-rescue-adoption-event-at-stone-silo-brewery-in-damascus/
LOCATION:Stone Silo Brewery\, 28800 Kemptown Road\, Damascus\, MD\, 20872\, United States
END:VEVENT
END:VCALENDAR